BEGIN:VCALENDAR
VERSION:2.0
PRODID:-//Eventin//Event Calendar//EN
CALSCALE:GREGORIAN
METHOD:PUBLISH
BEGIN:VEVENT
UID:317059edb6bfb4a80311d2d57b9448b6@cuiabatem.com.br
SUMMARY:PALESTRANDO - HISTÓRIAS QUE TRANSFORMAM
DESCRIPTION: \nCOMPRAR AQUI
LOCATION:Online
DTSTAMP:20260425T235709Z
DTSTART:20240507T210000Z
DTEND:20260426T030000Z
END:VEVENT
END:VCALENDAR
