BEGIN:VCALENDAR
VERSION:2.0
PRODID:-//Eventin//Event Calendar//EN
CALSCALE:GREGORIAN
METHOD:PUBLISH
BEGIN:VEVENT
UID:2ca3a83aa3bc3cdacffbe7c6350155d7@cuiabatem.com.br
SUMMARY:Seminário Liderança e Gestão de Pessoas PRESENCIAL
DESCRIPTION:Serão 3 horas de treinamento prático e voltado para a rea
 lidade do dia a dia do Líder.  \n\nData: 21 de Maio de 2024.\nHorário:
  19h as 22h\nLocal: Av. André Maggi\, 1980 - Alvorada\, Cuiabá - MT (De
 lmond Hotel Salão de eventos) - Com certificado digital e Coffee break inc
 luso.\n\n\n\n \nQUEM DEVE PARTICIPAR:\n\n\n 	Líderes de todas as áreas (
  diretor\, gerente\, supervisor\, líder de setor  e outros )\n 	Empresár
 ios(as)\n 	Recursos humanos (todos do setor)\n 	Quem deseja ser líder não
  pode perder\n\n\n\nAssuntos Abordados:\n\n1- A importância da liderança 
 e gestão de pessoas para melhorar resultados.\n2- Como motivar as diversas
  classes de funcionários para a conquista da excelência.\n3- O que mais m
 otiva as pessoas além da óbvia resposta ‘’salário’’.\n4- Como cr
 iar o espírito de equipe para a conquista do desempenho máximo.\n\n\nCOMP
 RAR INGRESSO
LOCATION:Online
DTSTAMP:20260425T235305Z
DTSTART:20240521T230000Z
DTEND:20260426T020000Z
END:VEVENT
END:VCALENDAR
