BEGIN:VCALENDAR
VERSION:2.0
PRODID:-//Eventin//Event Calendar//EN
CALSCALE:GREGORIAN
METHOD:PUBLISH
BEGIN:VEVENT
UID:35b39c24f0750fdc65b0c931fb7ca3c8@cuiabatem.com.br
SUMMARY:Festival na Serra - Chapada dos Guimarães
DESCRIPTION:No dia 20 de abril\, no espaço Lagoa das Conchas\, em Chapada 
 dos Guimarães - MT\, o público vai viver uma experiência única com o Fe
 stival na Serra. Sucesso na última edição\, o Festival na Serra já se c
 onsagrou no calendário de maior evento do Estado. Neste ano\, a partir das
  15hs\, as atrações musicais ficam por conta dos shows da dupla Zé Neto 
 e Cristiano\, Grupo Menos é Mais\, Fábio Serra\, GG na Voz e Bruno e Vin
 ícius.\n\n 	Data: 20/04/2024\n 	Horário abertura do evento: 15:00\n 	Loca
 l: Lagoa das Conchas - Chapada dos Guimarães - MT\n\nAtrações:\n\n 	 Zé
  Neto e Cristiano\n 	Menos é Mais\n 	Fabio Serra\n 	VG na Voz\n 	Bruno E V
 inicius\n\nCOMPRAR INGRESSOS
LOCATION:Online
DTSTAMP:20260422T081827Z
DTSTART:20240420T190000Z
DTEND:20260423T030000Z
END:VEVENT
END:VCALENDAR
